Workbook
Name _\s: #REF!
Name _\s: #REF!
Name __wal1: #REF!
Name __wal1: #REF!
Name __wal10: #REF!
Name __wal10: #REF!
Name __wal11: #REF!
Name __wal12: #REF!
Name __wal13: #REF!
Name __wal14: #REF!
Name __wal15: #REF!
Name __wal16: #REF!
Name __wal2: #REF!
Name __wal3: #REF!
Name __wal5: #REF!
Name __wal6: #REF!
Name __wal7: #REF!
Name __wal9: #REF!
Name _BD2: #REF!
Name _wal1: #REF!
Name _wal10: #REF!
Name _wal11: #REF!
Name _wal12: #REF!
Name _wal13: #REF!
Name _wal14: #REF!
Name _wal15: #REF!
Name _wal16: #REF!
Name _wal2: #REF!
Name _wal3: #REF!
Name _wal5: #REF!
Name _wal6: #REF!
Name _wal7: #REF!
Name _wal8: #REF!
Name _wal9: #REF!
Name abc: #REF!
Name Acomp: #REF!
Name agua: #REF!
Name ASDD: #REF!
Name ASFDADF: #REF!
Name B: #REF!
Name Banco_dados_IM: #REF!
Name bbcla: #REF!
Name Bloco1: #REF!
Name Bloco1.2: #REF!
Name Bloco1.3: #REF!
Name Bloco10: #REF!
Name Bloco11: #REF!
Name Bloco12: #REF!
Name Bloco13: #REF!
Name Bloco14: #REF!
Name Bloco15: #REF!
Name Bloco16: #REF!
Name Bloco17: #REF!
Name Bloco18: #REF!
Name Bloco19: #REF!
Name Bloco2: #REF!
Name Bloco20: #REF!
Name Bloco203: #REF!
Name Bloco21: #REF!
Name Bloco22: #REF!

Sheet RESUMO (2)
B2: OBJETO: | C2: CONTRATAÇÃO DE EMPRESA DE ENGENHARIA PARA A RETOMADA E CONCLUSÃO DA OBRA DE CONSTRUÇÃO DE QUADRA ESCOLAR COBERTA COM VESTIÁRIOS, PADRÃO FNDE, ID Nº 1004566, LOCALIZADA NO DISTRITO DE APOLINÁRIO, MUNICÍPIO DE CURUÁ/PA. | D2: RESP. TÉCNICO | E2: FELIPE RIBEIRO
B3: PROPONENTE | C3: PREFEITURA MUNICIPAL DE CURUÁ/PA | D3: ENC. SOCIAIS | E3: M: 53,45% - H: 95,00%
B4: REFERÊNCIAS: | C4: Sinapi 12/2024 e SETOP 08/2023 (outras) | D4: BDI | E4: 0.2882
B6: PLANILHA ORÇAMENTÁRIA RESUMIDA
B7: ITEM | C7: DESCRIÇÃO | D7: TOTAL | E7: PESO (%)
B8: 1 | C8: SERVIÇOS PRELIMINARES | D8: 1779.61 | E8: 0.0091570934
B9: 2 | C9: ESQUADRIAS | D9: 668.19 | E9: 0.0034424045
B10: 3 | C10: REVESTIMENTOS INTERNOS E EXTERNOS | D10: 3406.68 | E10: 0.017597991
B11: 4 | C11: PINTURA | D11: 94762.08 | E11: 0.48896815
B12: 5 | C12: INSTALAÇÕES DE AGUAS PLUVIAIS | D12: 7097.48 | E12: 0.036429674
B13: 6 | C13: LOUÇAS E METAIS | D13: 6864.15 | E13: 0.035325735
B14: 7 | C14: SISTEMA DE PROTEÇÃO CONTRA INCÊNCIO | D14: 1019.33 | E14: 0.0052382169
B15: 8 | C15: INSTALAÇÕES ELÉTRICAS E TELEFÔNICAS 220V | D15: 23617.59 | E15: 0.12151278
B16: 9 | C16: SISTEMA DE PROTEÇÃO CONTRA DESCARGAS ATMOSFÉRICAS (SPDA) | D16: 4652.53 | E16: 0.023971724
B17: 10 | C17: SERVIÇOS COMPLEMENTARES | D17: 47427.59 | E17: 0.24602412
B18: 11 | C18: SERVIÇOS FINAIS | D18: 2379.88 | E18: 0.012332112
C20: TOTAL | D20: =SUM(D8:D18) -> 193675.11
C24: _________________________________________
C25: Felipe Ribeiro dos Santos de Lima
C26: Engenheiro Civil - CREA 922088PA

Sheet SINTÉTICO (2)
B2: OBJETO: | C2: CONTRATAÇÃO DE EMPRESA DE ENGENHARIA PARA A RETOMADA E CONCLUSÃO DA OBRA DE CONSTRUÇÃO DE QUADRA ESCOLAR COBERTA COM VESTIÁRIOS, PADRÃO FNDE, ID Nº 1004566, LOCALIZADA NO DISTRITO DE APOLINÁRIO, MUNICÍPIO DE CURUÁ/PA. | I2: RESP. TÉCNICO | J2: FELIPE RIBEIRO
B3: PROPONENTE | C3: PREFEITURA MUNICIPAL DE CURUÁ/PA | I3: ENC. SOCIAIS | J3: M: 53,45% - H: 95,00%
B4: REFERÊNCIAS: | C4: Sinapi 12/2024 e SETOP 08/2023 (outras) | I4: BDI | J4: 0.2882
B6: ORÇAMENTO SINTÉTICO
B7: ITEM | C7: CÓDIGO | D7: REFERÊNCIA | E7: DESCRIÇÃO | F7: UND | G7: QUANT. | H7: VALOR UNIT. | I7: VALOR UNIT. C/ BDI | J7: TOTAL | K7: PESO (%)
B8: 1 | E8: SERVIÇOS PRELIMINARES | J8: =J9 -> 1779.61 | K8: 0.0091570934
B9: 1.1 | C9: 103689 | D9: SINAPI | E9: FORNECIMENTO E INSTALAÇÃO DE PLACA DE OBRA COM CHAPA GALVANIZADA E ESTRUTURA DE MADEIRA. AF_03/2022_PS | F9: m² | G9: 3 | H9: 460.49 | I9: 593.2 | J9: 1779.61 | K9: 0.0091570934
B10: 2 | E10: ESQUADRIAS | G10: 1 | J10: =J11 -> 668.19 | K10: 0.0034424045
B11: 2.1 | C11: 90830 | D11: SINAPI | E11: FECHADURA DE EMBUTIR COM CILINDRO, EXTERNA, COMPLETA, ACABAMENTO PADRÃO MÉDIO, INCLUSO EXECUÇÃO DE FURO - FORNECIMENTO E INSTALAÇÃO. AF_12/2019 | F11: UN | G11: 3 | H11: 172.9 | I11: 222.73 | J11: 668.19 | K11: 0.0034424045
B12: 3 | E12: REVESTIMENTOS INTERNOS E EXTERNOS | G12: 1 | J12: 3406.68 | K12: 0.017597991
B13: 3.1 | C13: 87273 | D13: SINAPI | E13: REVESTIMENTO CERÂMICO PARA PAREDES INTERNAS COM PLACAS TIPO ESMALTADA DE DIMENSÕES 33X45 CM APLICADAS NA ALTURA INTEIRA DAS PAREDES. AF_02/2023_PE | F13: m² | G13: 6 | H13: 70.41 | I13: 90.7 | J13: 544.21 | K13: 0.0028087265
B14: 3.2 | C14: C4442 | D14: SEINFRA | E14: CERÂMICA ESMALTADA C/ ARG. PRÉ-FABRICADA ATÉ 10x10cm (100cm²) - DECORATIVA - P/ PAREDE | F14: m² | G14: 14 | H14: 87.14 | I14: 112.25 | J14: 1571.55 | K14: 0.0081195964
B15: 3.3 | C15: C4442 | D15: SEINFRA | E15: CERÂMICA ESMALTADA C/ ARG. PRÉ-FABRICADA ATÉ 10x10cm (100cm²) - DECORATIVA - P/ PAREDE | F15: m² | G15: 2 | H15: 87.14 | I15: 112.25 | J15: 224.51 | K15: 0.0011599423
B16: 3.4 | C16: C4442 | D16: SEINFRA | E16: CERÂMICA ESMALTADA C/ ARG. PRÉ-FABRICADA ATÉ 10x10cm (100cm²) - DECORATIVA - P/ PAREDE | F16: m² | G16: 9.5 | H16: 87.14 | I16: 112.25 | J16: 1066.41 | K16: 0.0055097261
B17: 4 | E17: PINTURA | G17: 1 | J17: 94762.08 | K17: 0.48896815
B18: 4.1 | C18: C1207 | D18: SEINFRA | E18: EMASSAMENTO DE PAREDES EXTERNAS 2 DEMÃOS C/MASSA ACRÍLICA | F18: m² | G18: 445.04 | H18: 16.25 | I18: 20.93 | J18: 9316.13 | K18: 0.04840729
B19: 4.2 | C19: C1208 | D19: SEINFRA | E19: EMASSAMENTO DE PAREDES INTERNAS 2 DEMÃOS C/MASSA DE PVA | F19: m² | G19: 84.33 | H19: 12.83 | I19: 16.53 | J19: 1393.77 | K19: 0.0072491699
B20: 4.3 | C20: 88489 | D20: SINAPI | E20: PINTURA LÁTEX ACRÍLICA PREMIUM, APLICAÇÃO MANUAL EM PAREDES, DUAS DEMÃOS. AF_04/2023 | F20: m² | G20: 445.04 | H20: 12.81 | I20: 16.5 | J20: 7343.98 | K20: 0.03793143
B21: 4.4 | C21: 104639 | D21: SINAPI | E21: PINTURA LÁTEX ACRÍLICA ECONÔMICA, APLICAÇÃO MANUAL EM TETO, DUAS DEMÃOS. AF_04/2023 | F21: m² | G21: 84.33 | H21: 11.25 | I21: 14.49 | J21: 1222.13 | K21: 0.00632488
B22: 4.5 | C22: 102494 | D22: SINAPI | E22: PINTURA DE PISO COM TINTA EPÓXI, APLICAÇÃO MANUAL, 2 DEMÃOS, INCLUSO PRIMER EPÓXI. AF_05/2021 | F22: m² | G22: 483.4 | H22: 68.65 | I22: 88.43 | J22: 42749.45 | K22: 0.22005783
B23: 4.6 | C23: 100746 | D23: SINAPI | E23: PINTURA COM TINTA ALQUÍDICA DE ACABAMENTO (ESMALTE SINTÉTICO BRILHANTE) APLICADA A ROLO OU PINCEL SOBRE SUPERFÍCIES METÁLICAS (EXCETO PERFIL) EXECUTADO EM OBRA (POR DEMÃO). AF_01/2020 | F23: m² | G23: 558.25 | H23: 24.11 | I23: 31.06 | J23: 17338.41 | K23: 0.089799809
B24: 4.7 | C24: 100727 | D24: SINAPI | E24: PINTURA COM TINTA EPOXÍDICA DE FUNDO PULVERIZADA SOBRE PERFIL METÁLICO EXECUTADO EM FÁBRICA (POR DEMÃO). AF_01/2020_PE | F24: m² | G24: 404.1 | H24: 29.58 | I24: 38.1 | J24: 15398.21 | K24: 0.079197746
B25: 5 | E25: INSTALAÇÕES DE AGUAS PLUVIAIS | G25: 1 | I25: 6979.77 | J25: 7097.48 | K25: 0.036429674
B26: 5.1 | C26: 7752 | D26: ORSE | E26: Ralo hemisférico em ferro fundido tipo abacaxi, DN=150mm | F26: un | G26: 4 | H26: 83.4 | I26: 107.44 | J26: 429.74 | K26: 0.0022127842
B27: 5.2 | C27: 4421 | D27: ORSE | E27: Canaleta de concreto c/ tampa removível em chapa de aço (0,25 x 0,25 x 0,25m) | F27: m | G27: 21.6 | H27: 239.63 | I27: 308.69 | J27: 6667.73 | K27: 0.03421689
B28: 6 | E28: LOUÇAS E METAIS | G28: 1 | I28: 6768.26 | J28: 6864.15 | K28: 0.035325735
B29: 6.1 | C29: 86888 | D29: SINAPI | E29: VASO SANITÁRIO SIFONADO COM CAIXA ACOPLADA LOUÇA BRANCA - FORNECIMENTO E INSTALAÇÃO. AF_01/2020 | F29: UN | G29: 4 | H29: 554.02 | I29: 713.69 | J29: 2854.75 | K29: 0.014684878
B30: 6.2 | C30: 100849 | D30: SINAPI | E30: ASSENTO SANITÁRIO CONVENCIONAL - FORNECIMENTO E INSTALACAO. AF_01/2020 | F30: UN | G30: 4 | H30: 41.65 | I30: 53.65 | J30: 214.61 | K30: 0.0011046175
B31: 6.3 | C31: 86943 | D31: SINAPI | E31: LAVATÓRIO LOUÇA BRANCA SUSPENSO, 29,5 X 39CM OU EQUIVALENTE, PADRÃO POPULAR, INCLUSO SIFÃO FLEXÍVEL EM PVC, VÁLVULA E ENGATE FLEXÍVEL 30CM EM PLÁSTICO E TORNEIRA CROMADA DE MESA, PADRÃO POPULAR - FORNECIMENTO E INSTALAÇÃO. AF_01/2020 | F31: UN | G31: 2 | H31: 247.43 | I31: 318.74 | J31: 637.48 | K31: 0.0032811796
B32: 6.4 | C32: 86901 | D32: SINAPI | E32: CUBA DE EMBUTIR OVAL EM LOUÇA BRANCA, 35 X 50CM OU EQUIVALENTE - FORNECIMENTO E INSTALAÇÃO. AF_01/2020 | F32: UN | G32: 6 | H32: 161.83 | I32: 208.47 | J32: 1250.82 | K32: 0.0064423148
B33: 6.5 | C33: 86906 | D33: SINAPI | E33: TORNEIRA CROMADA DE MESA, 1/2" OU 3/4", PARA LAVATÓRIO, PADRÃO POPULAR - FORNECIMENTO E INSTALAÇÃO. AF_01/2020 | F33: UN | G33: 8 | H33: 51.06 | I33: 65.78 | J33: 526.2 | K33: 0.0027065321
B34: 6.6 | C34: 95544 | D34: SINAPI | E34: PAPELEIRA DE PAREDE EM METAL CROMADO SEM TAMPA, INCLUSO FIXAÇÃO. AF_01/2020 | F34: UN | G34: 6 | H34: 73.43 | I34: 94.59 | J34: 567.56 | K34: 0.0029220902
B35: 6.7 | C35: 100860 | D35: SINAPI | E35: CHUVEIRO ELÉTRICO COMUM CORPO PLÁSTICO, TIPO DUCHA - FORNECIMENTO E INSTALAÇÃO. AF_01/2020 | F35: UN | G35: 6 | H35: 105.15 | I35: 135.45 | J35: 812.73 | K35: 0.0041841225
B36: 7 | E36: SISTEMA DE PROTEÇÃO CONTRA INCÊNCIO | G36: 1 | I36: 1003.62 | J36: 1019.33 | K36: 0.0052382169
B37: 7.1 | C37: 101909 | D37: SINAPI | E37: EXTINTOR DE INCÊNDIO PORTÁTIL COM CARGA DE PQS DE 6 KG, CLASSE BC - FORNECIMENTO E INSTALAÇÃO. AF_10/2020_PE | F37: UN | G37: 2 | H37: 269.58 | I37: 347.27 | J37: 694.55 | K37: 0.0035737748
B38: 7.2 | C38: 97599 | D38: SINAPI | E38: LUMINÁRIA DE EMERGÊNCIA, COM 30 LÂMPADAS LED DE 2 W, SEM REATOR - FORNECIMENTO E INSTALAÇÃO. AF_09/2024 | F38: UN | G38: 2 | H38: 25.57 | I38: 32.94 | J38: 65.88 | K38: 0.00033946477
B39: 7.3 | C39: 102505 | D39: SINAPI | E39: PINTURA DE DEMARCAÇÃO DE QUADRA POLIESPORTIVA COM BORRACHA CLORADA, E = 5 CM, APLICAÇÃO MANUAL. AF_05/2021 | F39: M | G39: 2 | H39: 10.45 | I39: 13.46 | J39: 26.92 | K39: 0.0001295436
B40: 7.4 | C40: 240843 | D40: SEDOP | E40: Placa de sinalização metálica | F40: un | G40: 2 | H40: 45.02 | I40: 57.99 | J40: 115.19 | K40: 0.00059771687
B41: 7.5 | C41: 240843 | D41: SEDOP | E41: Placa de sinalização metálica | F41: un | G41: 2 | H41: 45.02 | I41: 57.99 | J41: 115.19 | K41: 0.00059771687
B42: 8 | E42: INSTALAÇÕES ELÉTRICAS E TELEFÔNICAS 220V | G42: 1 | J42: 23617.59 | K42: 0.12151278
...

Sheet ANALÍTICO (2)
B2: OBJETO: | C2: CONTRATAÇÃO DE EMPRESA DE ENGENHARIA PARA A RETOMADA E CONCLUSÃO DA OBRA DE CONSTRUÇÃO DE QUADRA ESCOLAR COBERTA COM VESTIÁRIOS, PADRÃO FNDE, ID Nº 1004566, LOCALIZADA NO DISTRITO DE APOLINÁRIO, MUNICÍPIO DE CURUÁ/PA. | I2: RESP. TÉCNICO | J2: FELIPE RIBEIRO
B3: CLIENTE | C3: PREFEITURA MUNICIPAL DE CURUÁ/PA | I3: ENC. SOCIAIS | J3: M: 53,45% - H: 95,00%
B4: REFERÊNCIAS: | C4: Sinapi 12/2024 e SETOP 08/2023 (outras) | I4: BDI | J4: 0.2882
B5: PLANILHA ORÇAMENTÁRIA ANALÍTICA
B6: 1 | E6: SERVIÇOS PRELIMINARES | K6: 1754.46
B7: 1.1 | C7: Código | D7: Banco | E7: Descrição | F7: Tipo | H7: Und | I7: Quant. | J7: Valor Unit | K7: Total
B8: Composição | C8: 103689 | D8: SINAPI | E8: FORNECIMENTO E INSTALAÇÃO DE PLACA DE OBRA COM CHAPA GALVANIZADA E ESTRUTURA DE MADEIRA. AF_03/2022_PS | F8: PAVI - PAVIMENTAÇÃO | H8: m² | I8: 1 | J8: ='SINTÉTICO (2)'!H9 -> 460.49 | K8: ='SINTÉTICO (2)'!H9 -> 460.49
B9: Composição Auxiliar | C9: 88262 | D9: SINAPI | E9: CARPINTEIRO DE FORMAS COM ENCARGOS COMPLEMENTARES | F9: SEDI - SERVIÇOS DIVERSOS | H9: H | I9: 0.3729 | J9: 25.12 | K9: 9.36
B10: Composição Auxiliar | C10: 102234 | D10: SINAPI | E10: PINTURA IMUNIZANTE PARA MADEIRA, 2 DEMÃOS. AF_01/2021 | F10: PINT - PINTURAS | H10: m² | I10: 0.5 | J10: 23.88 | K10: 11.94
B11: Composição Auxiliar | C11: 88316 | D11: SINAPI | E11: SERVENTE COM ENCARGOS COMPLEMENTARES | F11: SEDI - SERVIÇOS DIVERSOS | H11: H | I11: 1.1186 | J11: 20.46 | K11: 22.88
B12: Insumo | C12: 00004813 | D12: SINAPI | E12: PLACA DE OBRA (PARA CONSTRUCAO CIVIL) EM CHAPA GALVANIZADA *N. 22*, ADESIVADA, DE *2,4 X 1,2* M (SEM POSTES PARA FIXACAO) | F12: Material | H12: m² | I12: 1 | J12: 394.01 | K12: 394.01
B13: Insumo | C13: 00005065 | D13: SINAPI | E13: PREGO DE ACO POLIDO COM CABECA 10 X 10 (7/8 X 17) | F13: Material | H13: KG | I13: 0.0113 | J13: 32.97 | K13: 0.37
B14: Insumo | C14: 00004509 | D14: SINAPI | E14: SARRAFO *2,5 X 10* CM EM PINUS, MISTA OU EQUIVALENTE DA REGIAO - BRUTA | F14: Material | H14: M | I14: 3.2083 | J14: 4.74 | K14: 15.2
B15: Insumo | C15: 00005069 | D15: SINAPI | E15: PREGO DE ACO POLIDO COM CABECA 17 X 27 (2 1/2 X 11) | F15: Material | H15: KG | I15: 0.0132 | J15: 17.67 | K15: 0.23
F16: MO sem LS => | G16: 24.76 | H16: LS => | I16: 0 | J16: MO com LS => | K16: 24.76
F17: Valor do BDI => | G17: 130.83 | I17: Valor com BDI => | K17: 584.82
H18: Quant. => | I18: 3,00 | J18: Preço Total => | K18: ='SINTÉTICO (2)'!J9 -> 1779.61
B20: 2 | E20: ESQUADRIAS | K20: 659.55
B21: 2.1 | C21: Código | D21: Banco | E21: Descrição | F21: Tipo | H21: Und | I21: Quant. | J21: Valor Unit | K21: Total
B22: Composição | C22: 90830 | D22: SINAPI | E22: FECHADURA DE EMBUTIR COM CILINDRO, EXTERNA, COMPLETA, ACABAMENTO PADRÃO MÉDIO, INCLUSO EXECUÇÃO DE FURO - FORNECIMENTO E INSTALAÇÃO. AF_12/2019 | F22: ESQV - ESQUADRIAS/FERRAGENS/VIDROS | H22: UN | I22: 1 | J22: ='SINTÉTICO (2)'!H11 -> 172.9 | K22: =J22 -> 172.9
B23: Composição Auxiliar | C23: 88261 | D23: SINAPI | E23: CARPINTEIRO DE ESQUADRIA COM ENCARGOS COMPLEMENTARES | F23: SEDI - SERVIÇOS DIVERSOS | H23: H | I23: 1.002 | J23: 24.16 | K23: 24.2
B24: Composição Auxiliar | C24: 88316 | D24: SINAPI | E24: SERVENTE COM ENCARGOS COMPLEMENTARES | F24: SEDI - SERVIÇOS DIVERSOS | H24: H | I24: 0.501 | J24: 20.46 | K24: 10.25
B25: Insumo | C25: 00003081 | D25: SINAPI | E25: FECHADURA ESPELHO PARA PORTA EXTERNA, EM ACO INOX (MAQUINA, TESTA E CONTRA-TESTA) E EM ZAMAC (MACANETA, LINGUETA E TRINCOS) COM ACABAMENTO CROMADO, MAQUINA DE 55 MM, INCLUINDO CHAVE TIPO CILINDRO | F25: Material | H25: CJ | I25: 1 | J25: 136.22 | K25: 136.22
F26: MO sem LS => | G26: 22.93 | H26: LS => | I26: 0 | J26: MO com LS => | K26: 22.93
F27: Valor do BDI => | G27: 49.18 | I27: Valor com BDI => | K27: 219.85
H28: Quant. => | I28: 3,00 | J28: Preço Total => | K28: ='SINTÉTICO (2)'!J11 -> 668.19
B30: 3 | E30: REVESTIMENTOS INTERNOS E EXTERNOS | K30: 3371.7
B31: 3.1 | C31: Código | D31: Banco | E31: Descrição | F31: Tipo | H31: Und | I31: Quant. | J31: Valor Unit | K31: Total
B32: Composição | C32: 87273 | D32: SINAPI | E32: REVESTIMENTO CERÂMICO PARA PAREDES INTERNAS COM PLACAS TIPO ESMALTADA DE DIMENSÕES 33X45 CM APLICADAS NA ALTURA INTEIRA DAS PAREDES. AF_02/2023_PE | F32: REVE - REVESTIMENTO E TRATAMENTO DE SUPERFÍCIES | H32: m² | I32: 1 | J32: ='SINTÉTICO (2)'!H13 -> 70.41 | K32: =J32 -> 70.41
B33: Composição Auxiliar | C33: 88256 | D33: SINAPI | E33: AZULEJISTA OU LADRILHISTA COM ENCARGOS COMPLEMENTARES | F33: SEDI - SERVIÇOS DIVERSOS | H33: H | I33: 0.697 | J33: 25.33 | K33: 17.65
B34: Composição Auxiliar | C34: 88316 | D34: SINAPI | E34: SERVENTE COM ENCARGOS COMPLEMENTARES | F34: SEDI - SERVIÇOS DIVERSOS | H34: H | I34: 0.3138 | J34: 20.46 | K34: 6.42
B35: Insumo | C35: 00000536 | D35: SINAPI | E35: REVESTIMENTO PARA PAREDE, EM CERAMICA ESMALTADA, FORMATO MENOR OU IGUAL A 2025 CM2 | F35: Material | H35: m² | I35: 1.0798 | J35: 35.49 | K35: 38.32
B36: Insumo | C36: 00034357 | D36: SINAPI | E36: REJUNTE CIMENTICIO, QUALQUER COR | F36: Material | H36: KG | I36: 0.222 | J36: 5.2 | K36: 1.15
B37: Insumo | C37: 00001381 | D37: SINAPI | E37: ARGAMASSA COLANTE AC I PARA CERAMICAS | F37: Material | H37: KG | I37: 6.85 | J37: 0.89 | K37: 6.09
F38: MO sem LS => | G38: 16.22 | H38: LS => | I38: 0 | J38: MO com LS => | K38: 16.22
F39: Valor do BDI => | G39: 20.06 | I39: Valor com BDI => | K39: 89.69
H40: Quant. => | I40: 6,00 | J40: Preço Total => | K40: ='SINTÉTICO (2)'!J13 -> 544.21
B42: 3.2 | C42: Código | D42: Banco | E42: Descrição | F42: Tipo | H42: Und | I42: Quant. | J42: Valor Unit | K42: Total
B43: Composição | C43: C4442 | D43: SEINFRA | E43: CERÂMICA ESMALTADA C/ ARG. PRÉ-FABRICADA ATÉ 10x10cm (100cm²) - DECORATIVA - P/ PAREDE | F43: 0 | H43: m² | I43: 1 | J43: ='SINTÉTICO (2)'!H14 -> 87.14 | K43: =J43 -> 87.14
B44: Insumo | C44: I2543 | D44: SEINFRA | E44: SERVENTE | F44: Mão de Obra | H44: H | I44: 0.72 | J44: 18.46 | K44: 13.29
...

Sheet CFF (2)
B1: OBJETO: | C1: CONTRATAÇÃO DE EMPRESA DE ENGENHARIA PARA A RETOMADA E CONCLUSÃO DA OBRA DE CONSTRUÇÃO DE QUADRA ESCOLAR COBERTA COM VESTIÁRIOS, PADRÃO FNDE, ID Nº 1004566, LOCALIZADA NO DISTRITO DE APOLINÁRIO, MUNICÍPIO DE CURUÁ/PA. | D1: RESP. TÉCNICO | E1: FELIPE RIBEIRO
B2: PROPONENTE | C2: CONCORRÊNCIA ELETRÔNICA | D2: ENC. SOCIAIS | E2: M: 53,45% - H: 95,00%
B3: REFERÊNCIAS: | C3: Sinapi 12/2024 e SETOP 08/2023 (outras) | D3: BDI | E3: 0.2882
B5: CRONOGRAMA FÍSICO E FINANCEIRO
B6: Item | C6: Descrição | D6: Total Por Etapa | E6: 30 DIAS | F6: 60 DIAS | G6: 90 DIAS | H6: 120 DIAS
B7: 1 | C7: SERVIÇOS PRELIMINARES | D7: ='RESUMO (2)'!D8 -> 1779.61 | E7: 100,00% 1.779,61
B8: 2 | C8: ESQUADRIAS | D8: ='RESUMO (2)'!D9 -> 668.19 | E8: 100,00% 668,19
B9: 3 | C9: REVESTIMENTOS INTERNOS E EXTERNOS | D9: ='RESUMO (2)'!D10 -> 3406.68 | E9: 50,00% 1.703,34 | F9: 50,00% 1.703,34
B10: 4 | C10: PINTURA | D10: ='RESUMO (2)'!D11 -> 94762.08 | F10: 30,00% 28.428,62 | G10: 20,00% 18.952,42 | H10: 50,00% 47.381,04
B11: 5 | C11: INSTALAÇÕES DE AGUAS PLUVIAIS | D11: ='RESUMO (2)'!D12 -> 7097.48 | E11: 60,00% 4.258,49 | F11: 40,00% 2.838,99
B12: 6 | C12: LOUÇAS E METAIS | D12: ='RESUMO (2)'!D13 -> 6864.15 | G12: 50,00% 3.432,08 | H12: 50,00% 3.432,08
B13: 7 | C13: SISTEMA DE PROTEÇÃO CONTRA INCÊNCIO | D13: ='RESUMO (2)'!D14 -> 1019.33 | H13: 100,00% 1.019,33
B14: 8 | C14: INSTALAÇÕES ELÉTRICAS E TELEFÔNICAS 220V | D14: ='RESUMO (2)'!D15 -> 23617.59 | G14: 50,00% 11.808,79 | H14: 50,00% 11.808,79
B15: 9 | C15: SISTEMA DE PROTEÇÃO CONTRA DESCARGAS ATMOSFÉRICAS (SPDA) | D15: ='RESUMO (2)'!D16 -> 4652.53 | H15: 100,00% 4.652,53
B16: 10 | C16: SERVIÇOS COMPLEMENTARES | D16: ='RESUMO (2)'!D17 -> 47427.59 | G16: 50,00% 23.713,80 | H16: 50,00% 23.713,80
B17: 11 | C17: SERVIÇOS FINAIS | D17: ='RESUMO (2)'!D18 -> 2379.88 | H17: 100,00% 2.379,88
B18: Porcentagem | E18: 4,33% | F18: 17,01% | G18: 29,92% | H18: 48,75%
B19: Custo | E19: 8409.63 | F19: 32970.95 | G19: 57907.09 | H19: 94387.45
B20: Porcentagem Acumulado | E20: 4,33% | F20: 21,33% | G20: 0.5125 | H20: 100,0%
B21: Custo Acumulado | E21: =E19 -> 8409.63 | F21: =F19+E21 -> 41380.58 | G21: =G19+F21 -> 99287.67 | H21: 193675.11
C31: _________________________________________
C32: Felipe Ribeiro dos Santos de Lima
C33: Engenheiro Civil - CREA 922088PA

Sheet ENCARGOS (2)
B2: OBJETO: | C2: CONTRATAÇÃO DE EMPRESA DE ENGENHARIA PARA A RETOMADA E CONCLUSÃO DA OBRA DE CONSTRUÇÃO DE QUADRA ESCOLAR COBERTA COM VESTIÁRIOS, PADRÃO FNDE, ID Nº 1004566, LOCALIZADA NO DISTRITO DE APOLINÁRIO, MUNICÍPIO DE CURUÁ/PA. | D2: RESP. TÉCNICO | E2: FELIPE RIBEIRO
B3: CLIENTE | C3: PREFEITURA MUNICIPAL DE CURUÁ/PA | D3: ENC. SOCIAIS | E3: M: 53,45% - H: 95,00%
B4: REFERÊNCIAS: | C4: Sinapi 12/2024 e SETOP 08/2023 (outras) | D4: BDI | E4: 0.2882
B6: ENCARGOS SOCIAIS SOBRE A MÃO DE OBRA
B7: CÓDIGO | C7: DESCRIÇÃO | D7: COM DESONERAÇÃO
B8: GRUPO A
B9: A1 | C9: INSS | D9: 0.05 | E9: 0.05
B10: A2 | C10: SESI | D10: 0.015 | E10: 0.015
B11: A3 | C11: SENAI | D11: 0.01 | E11: 0.01
B12: A4 | C12: INCRA | D12: 0.002 | E12: 0.002
B13: A5 | C13: SEBRAE | D13: 0.006 | E13: 0.006
B14: A6 | C14: Salário Educação | D14: 0.025 | E14: 0.025
B15: A7 | C15: Seguro Contra Acidentes de Trabalho | D15: 0.03 | E15: 0.03
B16: A8 | C16: FGTS | D16: 0.08 | E16: 0.08
B17: A9 | C17: SECONCI | D17: 0 | E17: 0
B18: A | C18: Total | D18: =SUM(D9:D17) -> 0.218 | E18: =SUM(E9:E17) -> 0.218
B19: GRUPO B
B20: B1 | C20: Repouso Semanal Remunerado | D20: 0.1813 | E20: Não incide
B21: B2 | C21: Feriados | D21: 0.0416 | E21: Não incide
B22: B3 | C22: Auxílio - Enfermidade | D22: 0.0087 | E22: 0.0065
B23: B4 | C23: 13º Salário | D23: 0.1122 | E23: 0.0833
B24: B5 | C24: Licença Paternidade | D24: 0.0007 | E24: 0.0005
B25: B6 | C25: Faltas Justificadas | D25: 0.0075 | E25: 0.0056
B26: B7 | C26: Dias de Chuvas | D26: 0.0283 | E26: Não incide
B27: B8 | C27: Auxílio Acidente de Trabalho | D27: 0.001 | E27: 0.0007
B28: B9 | C28: Férias Gozadas | D28: 0.1282 | E28: 0.0953
B29: B10 | C29: Salário Maternidade | D29: 0.0003 | E29: 0.0003
B30: B | C30: Total | D30: =SUM(D20:D29) -> 0.5098 | E30: =SUM(E20:E29) -> 0.1922
B31: GRUPO C
B32: C1 | C32: Aviso Prévio Indenizado | D32: 0.0581 | E32: 0.0432
B33: C2 | C33: Aviso Prévio Trabalhado | D33: 0.0014 | E33: 0.001
B34: C3 | C34: Férias Indenizadas | D34: 0.0177 | E34: 0.0131
B35: C4 | C35: Depósito Rescisão Sem Justa Causa | D35: 0.0296 | E35: 0.022
B36: C5 | C36: Indenização Adicional | D36: 0.0049 | E36: 0.0036
B37: C | C37: Total | D37: =SUM(D32:D36) -> 0.1117 | E37: =SUM(E32:E36) -> 0.0829
B38: GRUPO D
B39: D1 | C39: Reincidência de Grupo A sobre Grupo B | D39: 0.1055 | E39: 0.0377
B40: D2 | C40: Reincidência de Grupo A sobre Aviso Prévio Trabalhado e Reincidência do FGTS sobre Aviso Prévio Indenizado | D40: 0.005 | E40: 0.0037
B41: D | C41: Total | D41: =SUM(D39:D40) -> 0.1105 | E41: =SUM(E39:E40) -> 0.0414
B43: TOTAL (A+B+C+D) | D43: =D18+D30+D37+D41 -> 0.95 | E43: =E18+E30+E37+E41 -> 0.5345
...

Sheet BDI (2)
B1: OBJETO: | C1: CONTRATAÇÃO DE EMPRESA DE ENGENHARIA PARA A RETOMADA E CONCLUSÃO DA OBRA DE CONSTRUÇÃO DE QUADRA ESCOLAR COBERTA COM VESTIÁRIOS, PADRÃO FNDE, ID Nº 1004566, LOCALIZADA NO DISTRITO DE APOLINÁRIO, MUNICÍPIO DE CURUÁ/PA. | I1: RESP. TÉCNICO | J1: FELIPE RIBEIRO
B2: CLIENTE | C2: PREFEITURA MUNICIPAL DE CURUÁ/PA | I2: ENC. SOCIAIS | J2: M: 53,45% - H: 95,00%
B3: REFERÊNCIAS: | C3: Sinapi 12/2024 e SETOP 08/2023 (outras) | I3: BDI | J3: 0.2882
B5: BDI - BDI DESONERADO
B6: GRUPO A | C6: TAXA ADMINISTRATIVA DA ADMINISTRAÇÃO CENTRAL
B7: 1 | C7: Administração Central | J7: 3,00%
C8: Total do Grupo | J8: 3,00%
B9: GRUPO B | C9: TAXA REPRESENTATIVA DOS RISCOS
B10: 1 | C10: Riscos | J10: 0,97%
C11: Total do Grupo | J11: 0,97%
B12: GRUPO C | C12: TAXA REPRESENTATIVA SEGURO GARANTIA
B13: 1 | C13: Risco | J13: 0,80%
C14: Total do Grupo | J14: 0,80%
B15: GRUPO D | C15: TAXA REPRESENTATIVA DAS DESPESAS FINANCEIRAS
B16: 1 | C16: Despesas Financeiras | J16: 0,59%
C17: Total do Grupo | J17: 0,59%
B18: GRUPO E | C18: TAXA REPRESENTATIVA DO LUCRO
B19: 1 | C19: Lucro | J19: 6,16%
C20: Total do Grupo | J20: 6,16%
B21: GRUPO F | C21: TAXA REPRESENTATIVA DA INCIDÊNCIA DOS IMPOSTOS ( SOBRE O FATURAMENTO DA EMPRESA )
B22: 1 | C22: ISS (IMPOSTO SOBRE SERVIÇOS) - MUNICIPAL | J22: 5,00%
B23: 2 | C23: COFINS - FEDERAL | J23: 3,00%
B24: 3 | C24: PIS (PROGRAMA DE INTREGRAÇÃO SOCIAL) - FEDERAL | J24: 0,65%
B25: 4 | C25: CRB -CONTRIBUIÇÂO INSS (DESONERAÇÂO) | J25: 0.045
C26: Total do Grupo | J26: 0.1315
B28: FÓRMULA PARA O CÁLCULO DO BDI | H28: (((1+A+B+C)*(1+D)*(1+E)/(1-F))-1)
B30: BONIFICAÇÃO SOBRE DESPESAS INDIRETAS (B.D.I)= | J30: 0.2882
E40: _________________________________________
E41: Felipe Ribeiro dos Santos de Lima
E42: Engenheiro Civil - CREA 922088PA
